BEGIN:VCALENDAR
VERSION:2.0
PRODID:-//Club Payandé - ECPv6.2.8.1//NONSGML v1.0//EN
CALSCALE:GREGORIAN
METHOD:PUBLISH
X-ORIGINAL-URL:https://clubpayande.com
X-WR-CALDESC:Eventos para Club Payandé
REFRESH-INTERVAL;VALUE=DURATION:PT1H
X-Robots-Tag:noindex
X-PUBLISHED-TTL:PT1H
BEGIN:VTIMEZONE
TZID:UTC
BEGIN:STANDARD
TZOFFSETFROM:+0000
TZOFFSETTO:+0000
TZNAME:UTC
DTSTART:20230101T000000
END:STANDARD
END:VTIMEZONE
BEGIN:VEVENT
DTSTART;VALUE=DATE:20231101
DTEND;VALUE=DATE:20231104
DTSTAMP:20260423T144431
CREATED:20231102T212551Z
LAST-MODIFIED:20231102T212803Z
UID:10000005-1698796800-1699055999@clubpayande.com
SUMMARY:Liney Malaver
DESCRIPTION:Nombre del evento: Retiro Corporativo \n Presentado por: Alina de Peláez \n Fecha de aprobación y Acta: \n Tipo de evento: Empresarial \nNo. de pax : 12 \nEspacios para usar: Salón de juegos\, sede principal y hotel.
URL:https://clubpayande.com/event/liney-malaver/
END:VEVENT
BEGIN:VEVENT
DTSTART;VALUE=DATE:20231101
DTEND;VALUE=DATE:20231104
DTSTAMP:20260423T144431
CREATED:20231102T214046Z
LAST-MODIFIED:20231102T214046Z
UID:10000006-1698796800-1699055999@clubpayande.com
SUMMARY:Torneo Interclubes Femenino
DESCRIPTION:
URL:https://clubpayande.com/event/torneo-interclubes-femenino/
END:VEVENT
END:VCALENDAR