BEGIN:VCALENDAR
VERSION:2.0
PRODID:-//Club Payandé - ECPv6.2.8.1//NONSGML v1.0//EN
CALSCALE:GREGORIAN
METHOD:PUBLISH
X-WR-CALNAME:Club Payandé
X-ORIGINAL-URL:https://clubpayande.com
X-WR-CALDESC:Eventos para Club Payandé
REFRESH-INTERVAL;VALUE=DURATION:PT1H
X-Robots-Tag:noindex
X-PUBLISHED-TTL:PT1H
BEGIN:VTIMEZONE
TZID:UTC
BEGIN:STANDARD
TZOFFSETFROM:+0000
TZOFFSETTO:+0000
TZNAME:UTC
DTSTART:20240101T000000
END:STANDARD
END:VTIMEZONE
BEGIN:VEVENT
DTSTART;VALUE=DATE:20250816
DTEND;VALUE=DATE:20250818
DTSTAMP:20260421T130729
CREATED:20240405T145250Z
LAST-MODIFIED:20250729T165537Z
UID:10000066-1755302400-1755475199@clubpayande.com
SUMMARY:TORNEO BANDERAS
DESCRIPTION:
URL:https://clubpayande.com/event/torneo-banderas-3/
LOCATION:Campo de Golf\, Campo de Golf\, Club Payandé\, Quebradanegra\, 253420\, Colombia
END:VEVENT
BEGIN:VEVENT
DTSTART;VALUE=DATE:20250803
DTEND;VALUE=DATE:20250806
DTSTAMP:20260421T130729
CREATED:20240405T145207Z
LAST-MODIFIED:20250729T170905Z
UID:10000065-1754179200-1754438399@clubpayande.com
SUMMARY:CUMPLEAÑOS WILLIAM MEJIA
DESCRIPTION:
URL:https://clubpayande.com/event/camila-tobon/
LOCATION:KIOSKO
ORGANIZER;CN="Cristian Ria%C3%B1o":MAILTO:alimentosybebidas@clubpayande.com
END:VEVENT
BEGIN:VEVENT
DTSTART;VALUE=DATE:20250802
DTEND;VALUE=DATE:20250803
DTSTAMP:20260421T130729
CREATED:20240405T144957Z
LAST-MODIFIED:20250729T171024Z
UID:10000062-1754092800-1754179199@clubpayande.com
SUMMARY:MONICA HERNANDEZ
DESCRIPTION:
URL:https://clubpayande.com/event/matrimonio-andres-y-linda/
LOCATION:Refugio
ORGANIZER;CN="Cristian Ria%C3%B1o":MAILTO:alimentosybebidas@clubpayande.com
END:VEVENT
BEGIN:VEVENT
DTSTART;VALUE=DATE:20250801
DTEND;VALUE=DATE:20250802
DTSTAMP:20260421T130729
CREATED:20250728T145116Z
LAST-MODIFIED:20250729T164849Z
UID:10000064-1754006400-1754092799@clubpayande.com
SUMMARY:MATRIMONIO MARIA JOSE Y JUAN MARTIN
DESCRIPTION:
URL:https://clubpayande.com/event/matrimonio-ana-gonzalez/
LOCATION:Comedor Principal
ORGANIZER;CN="Cristian Ria%C3%B1o":MAILTO:alimentosybebidas@clubpayande.com
END:VEVENT
BEGIN:VEVENT
DTSTART;VALUE=DATE:20241201
DTEND;VALUE=DATE:20241202
DTSTAMP:20260421T130729
CREATED:20240405T145038Z
LAST-MODIFIED:20240405T145038Z
UID:10000063-1733011200-1733097599@clubpayande.com
SUMMARY:FUMIGACIÓN
DESCRIPTION:
URL:https://clubpayande.com/event/fumigacion-6/
LOCATION:Club
END:VEVENT
BEGIN:VEVENT
DTSTART;VALUE=DATE:20241112
DTEND;VALUE=DATE:20241114
DTSTAMP:20260421T130729
CREATED:20240405T144917Z
LAST-MODIFIED:20240405T144917Z
UID:10000061-1731369600-1731542399@clubpayande.com
SUMMARY:AIREACIÓN
DESCRIPTION:
URL:https://clubpayande.com/event/aireacion-2/
LOCATION:Campo de Golf\, Campo de Golf\, Club Payandé\, Quebradanegra\, 253420\, Colombia
END:VEVENT
BEGIN:VEVENT
DTSTART;VALUE=DATE:20241110
DTEND;VALUE=DATE:20241112
DTSTAMP:20260421T130729
CREATED:20240405T144810Z
LAST-MODIFIED:20240405T144810Z
UID:10000060-1731196800-1731369599@clubpayande.com
SUMMARY:RECREACIÓN
DESCRIPTION:
URL:https://clubpayande.com/event/recreacion-8/
LOCATION:Club
ORGANIZER;CN="Cristian Ria%C3%B1o":MAILTO:alimentosybebidas@clubpayande.com
END:VEVENT
BEGIN:VEVENT
DTSTART;VALUE=DATE:20241106
DTEND;VALUE=DATE:20241108
DTSTAMP:20260421T130729
CREATED:20240405T144726Z
LAST-MODIFIED:20240405T144726Z
UID:10000059-1730851200-1731023999@clubpayande.com
SUMMARY:MEDALLA INTERCLUBES
DESCRIPTION:
URL:https://clubpayande.com/event/medalla-interclubes/
LOCATION:Campo de Golf\, Campo de Golf\, Club Payandé\, Quebradanegra\, 253420\, Colombia
END:VEVENT
BEGIN:VEVENT
DTSTART;VALUE=DATE:20241103
DTEND;VALUE=DATE:20241105
DTSTAMP:20260421T130729
CREATED:20240405T144556Z
LAST-MODIFIED:20240405T144556Z
UID:10000057-1730592000-1730764799@clubpayande.com
SUMMARY:RECREACIÓN
DESCRIPTION:
URL:https://clubpayande.com/event/recreacion-7/
LOCATION:Club
ORGANIZER;CN="Cristian Ria%C3%B1o":MAILTO:alimentosybebidas@clubpayande.com
END:VEVENT
BEGIN:VEVENT
DTSTART;VALUE=DATE:20241103
DTEND;VALUE=DATE:20241104
DTSTAMP:20260421T130729
CREATED:20240405T144647Z
LAST-MODIFIED:20240405T144647Z
UID:10000058-1730592000-1730678399@clubpayande.com
SUMMARY:KERMESSE
DESCRIPTION:
URL:https://clubpayande.com/event/kermesse/
LOCATION:Club
ORGANIZER;CN="Cristian Ria%C3%B1o":MAILTO:alimentosybebidas@clubpayande.com
END:VEVENT
BEGIN:VEVENT
DTSTART;VALUE=DATE:20241102
DTEND;VALUE=DATE:20241105
DTSTAMP:20260421T130729
CREATED:20240405T144520Z
LAST-MODIFIED:20240405T144520Z
UID:10000056-1730505600-1730764799@clubpayande.com
SUMMARY:COPA PRESIDENTE
DESCRIPTION:
URL:https://clubpayande.com/event/copa-presidente/
LOCATION:Campo de Golf\, Campo de Golf\, Club Payandé\, Quebradanegra\, 253420\, Colombia
END:VEVENT
BEGIN:VEVENT
DTSTART;VALUE=DATE:20241012
DTEND;VALUE=DATE:20241013
DTSTAMP:20260421T130729
CREATED:20240405T144426Z
LAST-MODIFIED:20240405T144426Z
UID:10000055-1728691200-1728777599@clubpayande.com
SUMMARY:TORNEO BANDERAS
DESCRIPTION:
URL:https://clubpayande.com/event/torneo-banderas-2/
LOCATION:Campo de Golf\, Campo de Golf\, Club Payandé\, Quebradanegra\, 253420\, Colombia
END:VEVENT
BEGIN:VEVENT
DTSTART;VALUE=DATE:20241007
DTEND;VALUE=DATE:20241012
DTSTAMP:20260421T130729
CREATED:20240405T144257Z
LAST-MODIFIED:20240405T144257Z
UID:10000053-1728259200-1728691199@clubpayande.com
SUMMARY:SEMANA DE RECESO
DESCRIPTION:
URL:https://clubpayande.com/event/semana-de-receso/
LOCATION:Club
ORGANIZER;CN="Cristian Ria%C3%B1o":MAILTO:alimentosybebidas@clubpayande.com
END:VEVENT
BEGIN:VEVENT
DTSTART;VALUE=DATE:20241006
DTEND;VALUE=DATE:20241007
DTSTAMP:20260421T130729
CREATED:20240405T144148Z
LAST-MODIFIED:20240405T144148Z
UID:10000052-1728172800-1728259199@clubpayande.com
SUMMARY:FUMIGACIÓN
DESCRIPTION:
URL:https://clubpayande.com/event/fumigacion-5/
LOCATION:Club
END:VEVENT
BEGIN:VEVENT
DTSTART;VALUE=DATE:20241005
DTEND;VALUE=DATE:20241015
DTSTAMP:20260421T130729
CREATED:20240405T144347Z
LAST-MODIFIED:20240405T144347Z
UID:10000054-1728086400-1728950399@clubpayande.com
SUMMARY:RECREACIÓN
DESCRIPTION:
URL:https://clubpayande.com/event/recreacion-6/
LOCATION:Club
ORGANIZER;CN="Cristian Ria%C3%B1o":MAILTO:alimentosybebidas@clubpayande.com
END:VEVENT
BEGIN:VEVENT
DTSTART;VALUE=DATE:20241005
DTEND;VALUE=DATE:20241006
DTSTAMP:20260421T130729
CREATED:20240405T144113Z
LAST-MODIFIED:20240405T144113Z
UID:10000051-1728086400-1728172799@clubpayande.com
SUMMARY:JUAN SERRANO
DESCRIPTION:
URL:https://clubpayande.com/event/juan-serrano/
LOCATION:Refugio
ORGANIZER;CN="Cristian Ria%C3%B1o":MAILTO:alimentosybebidas@clubpayande.com
END:VEVENT
BEGIN:VEVENT
DTSTART;VALUE=DATE:20240927
DTEND;VALUE=DATE:20240928
DTSTAMP:20260421T130729
CREATED:20240405T144006Z
LAST-MODIFIED:20240405T144006Z
UID:10000050-1727395200-1727481599@clubpayande.com
SUMMARY:MATRIMONIO CAMILO SANCHEZ
DESCRIPTION:
URL:https://clubpayande.com/event/matrimonio-camilo-sanchez/
LOCATION:Comedor Principal
ORGANIZER;CN="Cristian Ria%C3%B1o":MAILTO:alimentosybebidas@clubpayande.com
END:VEVENT
BEGIN:VEVENT
DTSTART;VALUE=DATE:20240916
DTEND;VALUE=DATE:20240918
DTSTAMP:20260421T130729
CREATED:20240405T143925Z
LAST-MODIFIED:20240405T143925Z
UID:10000049-1726444800-1726617599@clubpayande.com
SUMMARY:MICROPINCHADO
DESCRIPTION:
URL:https://clubpayande.com/event/micropinchado/
LOCATION:Campo de Golf\, Campo de Golf\, Club Payandé\, Quebradanegra\, 253420\, Colombia
END:VEVENT
BEGIN:VEVENT
DTSTART;VALUE=DATE:20240908
DTEND;VALUE=DATE:20240909
DTSTAMP:20260421T130729
CREATED:20240405T143837Z
LAST-MODIFIED:20240405T143837Z
UID:10000048-1725753600-1725839999@clubpayande.com
SUMMARY:FUMIGACIÓN
DESCRIPTION:
URL:https://clubpayande.com/event/fumigacion-4/
LOCATION:Club
END:VEVENT
BEGIN:VEVENT
DTSTART;VALUE=DATE:20240827
DTEND;VALUE=DATE:20240830
DTSTAMP:20260421T130729
CREATED:20240405T143641Z
LAST-MODIFIED:20240405T143641Z
UID:10000046-1724716800-1724975999@clubpayande.com
SUMMARY:LOREAL
DESCRIPTION:
URL:https://clubpayande.com/event/loreal/
LOCATION:Salon de Juegos
ORGANIZER;CN="Cristian Ria%C3%B1o":MAILTO:alimentosybebidas@clubpayande.com
END:VEVENT
BEGIN:VEVENT
DTSTART;VALUE=DATE:20240818
DTEND;VALUE=DATE:20240820
DTSTAMP:20260421T130729
CREATED:20240405T143253Z
LAST-MODIFIED:20240405T143253Z
UID:10000045-1723939200-1724111999@clubpayande.com
SUMMARY:RECREACIÓN
DESCRIPTION:
URL:https://clubpayande.com/event/recreacion-5/
LOCATION:Club
ORGANIZER;CN="Cristian Ria%C3%B1o":MAILTO:alimentosybebidas@clubpayande.com
END:VEVENT
BEGIN:VEVENT
DTSTART;VALUE=DATE:20240817
DTEND;VALUE=DATE:20240819
DTSTAMP:20260421T130729
CREATED:20240405T143154Z
LAST-MODIFIED:20240405T143154Z
UID:10000044-1723852800-1724025599@clubpayande.com
SUMMARY:TORNEO INTERNO POR PAREJAS
DESCRIPTION:
URL:https://clubpayande.com/event/torneo-interno-por-parejas/
LOCATION:Campo de Golf\, Campo de Golf\, Club Payandé\, Quebradanegra\, 253420\, Colombia
ORGANIZER;CN="Cristian Ria%C3%B1o":MAILTO:alimentosybebidas@clubpayande.com
END:VEVENT
BEGIN:VEVENT
DTSTART;VALUE=DATE:20240817
DTEND;VALUE=DATE:20240818
DTSTAMP:20260421T130729
CREATED:20240405T143048Z
LAST-MODIFIED:20240405T143048Z
UID:10000043-1723852800-1723939199@clubpayande.com
SUMMARY:FIESTA ANIVERSARIO
DESCRIPTION:
URL:https://clubpayande.com/event/fiesta-aniversario/
LOCATION:Club
ORGANIZER;CN="Cristian Ria%C3%B1o":MAILTO:alimentosybebidas@clubpayande.com
END:VEVENT
BEGIN:VEVENT
DTSTART;VALUE=DATE:20240809
DTEND;VALUE=DATE:20240810
DTSTAMP:20260421T130729
CREATED:20240405T142816Z
LAST-MODIFIED:20240405T142816Z
UID:10000042-1723161600-1723247999@clubpayande.com
SUMMARY:MATRIMONIO ANA NOREÑA
DESCRIPTION:
URL:https://clubpayande.com/event/matrimonio-ana-norena/
LOCATION:Comedor Principal
ORGANIZER;CN="Cristian Ria%C3%B1o":MAILTO:alimentosybebidas@clubpayande.com
END:VEVENT
BEGIN:VEVENT
DTSTART;VALUE=DATE:20240726
DTEND;VALUE=DATE:20240727
DTSTAMP:20260421T130729
CREATED:20240405T142637Z
LAST-MODIFIED:20240405T142637Z
UID:10000041-1721952000-1722038399@clubpayande.com
SUMMARY:MATRIMONIO
DESCRIPTION:
URL:https://clubpayande.com/event/matrimonio/
LOCATION:Refugio
ORGANIZER;CN="Cristian Ria%C3%B1o":MAILTO:alimentosybebidas@clubpayande.com
END:VEVENT
BEGIN:VEVENT
DTSTART;VALUE=DATE:20240725
DTEND;VALUE=DATE:20240726
DTSTAMP:20260421T130729
CREATED:20240405T142447Z
LAST-MODIFIED:20240405T142447Z
UID:10000040-1721865600-1721951999@clubpayande.com
SUMMARY:PRECOCTEL MATRIMONIO
DESCRIPTION:
URL:https://clubpayande.com/event/precoctel-matrimonio/
LOCATION:Bar Principal
ORGANIZER;CN="Cristian Ria%C3%B1o":MAILTO:alimentosybebidas@clubpayande.com
END:VEVENT
BEGIN:VEVENT
DTSTART;VALUE=DATE:20240708
DTEND;VALUE=DATE:20240710
DTSTAMP:20260421T130729
CREATED:20240405T142350Z
LAST-MODIFIED:20240405T142350Z
UID:10000039-1720396800-1720569599@clubpayande.com
SUMMARY:AIREACIÓN
DESCRIPTION:
URL:https://clubpayande.com/event/aireacion/
LOCATION:Campo de Golf\, Campo de Golf\, Club Payandé\, Quebradanegra\, 253420\, Colombia
END:VEVENT
BEGIN:VEVENT
DTSTART;VALUE=DATE:20240707
DTEND;VALUE=DATE:20240708
DTSTAMP:20260421T130729
CREATED:20240405T142302Z
LAST-MODIFIED:20240405T142302Z
UID:10000038-1720310400-1720396799@clubpayande.com
SUMMARY:FUMIGACIÓN
DESCRIPTION:
URL:https://clubpayande.com/event/fumigacion-3/
LOCATION:Club
END:VEVENT
BEGIN:VEVENT
DTSTART;VALUE=DATE:20240630
DTEND;VALUE=DATE:20240702
DTSTAMP:20260421T130729
CREATED:20240405T142222Z
LAST-MODIFIED:20240405T142222Z
UID:10000037-1719705600-1719878399@clubpayande.com
SUMMARY:RECREACIÓN
DESCRIPTION:
URL:https://clubpayande.com/event/recreacion-4/
LOCATION:Club
ORGANIZER;CN="Cristian Ria%C3%B1o":MAILTO:alimentosybebidas@clubpayande.com
END:VEVENT
BEGIN:VEVENT
DTSTART;VALUE=DATE:20240621
DTEND;VALUE=DATE:20240622
DTSTAMP:20260421T130729
CREATED:20240405T142106Z
LAST-MODIFIED:20240405T142106Z
UID:10000036-1718928000-1719014399@clubpayande.com
SUMMARY:MATRIMONIO JUAN CASTILLO
DESCRIPTION:
URL:https://clubpayande.com/event/matrimonio-juan-castillo/
LOCATION:Comedor Principal
ORGANIZER;CN="Cristian Ria%C3%B1o":MAILTO:alimentosybebidas@clubpayande.com
END:VEVENT
END:VCALENDAR