BEGIN:VCALENDAR
VERSION:2.0
PRODID:-//Club Payandé - ECPv6.2.8.1//NONSGML v1.0//EN
CALSCALE:GREGORIAN
METHOD:PUBLISH
X-WR-CALNAME:Club Payandé
X-ORIGINAL-URL:https://clubpayande.com
X-WR-CALDESC:Eventos para Club Payandé
REFRESH-INTERVAL;VALUE=DURATION:PT1H
X-Robots-Tag:noindex
X-PUBLISHED-TTL:PT1H
BEGIN:VTIMEZONE
TZID:UTC
BEGIN:STANDARD
TZOFFSETFROM:+0000
TZOFFSETTO:+0000
TZNAME:UTC
DTSTART:20240101T000000
END:STANDARD
END:VTIMEZONE
BEGIN:VEVENT
DTSTART;VALUE=DATE:20240404
DTEND;VALUE=DATE:20240406
DTSTAMP:20260423T051516
CREATED:20240405T133650Z
LAST-MODIFIED:20240405T133650Z
UID:10000011-1712188800-1712361599@clubpayande.com
SUMMARY:AGORA GROUP
DESCRIPTION:
URL:https://clubpayande.com/event/agora-group/
LOCATION:Salon de Juegos
ORGANIZER;CN="Cristian Ria%C3%B1o":MAILTO:alimentosybebidas@clubpayande.com
END:VEVENT
BEGIN:VEVENT
DTSTART;VALUE=DATE:20240407
DTEND;VALUE=DATE:20240410
DTSTAMP:20260423T051516
CREATED:20240405T134149Z
LAST-MODIFIED:20240405T134335Z
UID:10000012-1712448000-1712707199@clubpayande.com
SUMMARY:FEDERICO GUZMAN
DESCRIPTION:
URL:https://clubpayande.com/event/federico-guzman/
LOCATION:KIOSKO
ORGANIZER;CN="Cristian Ria%C3%B1o":MAILTO:alimentosybebidas@clubpayande.com
END:VEVENT
BEGIN:VEVENT
DTSTART;VALUE=DATE:20240410
DTEND;VALUE=DATE:20240412
DTSTAMP:20260423T051516
CREATED:20240405T134449Z
LAST-MODIFIED:20240405T134449Z
UID:10000013-1712707200-1712879999@clubpayande.com
SUMMARY:GREEN TEACH
DESCRIPTION:
URL:https://clubpayande.com/event/green-teach/
LOCATION:Salon de Juegos
ORGANIZER;CN="Cristian Ria%C3%B1o":MAILTO:alimentosybebidas@clubpayande.com
END:VEVENT
BEGIN:VEVENT
DTSTART;VALUE=DATE:20240418
DTEND;VALUE=DATE:20240420
DTSTAMP:20260423T051516
CREATED:20240405T134838Z
LAST-MODIFIED:20240405T134838Z
UID:10000015-1713398400-1713571199@clubpayande.com
SUMMARY:SCOTIBANK COLPATRIA
DESCRIPTION:
URL:https://clubpayande.com/event/scotibank-colpatria/
LOCATION:Salon de Juegos
ORGANIZER;CN="Cristian Ria%C3%B1o":MAILTO:alimentosybebidas@clubpayande.com
END:VEVENT
BEGIN:VEVENT
DTSTART;VALUE=DATE:20240420
DTEND;VALUE=DATE:20240421
DTSTAMP:20260423T051516
CREATED:20240405T134949Z
LAST-MODIFIED:20240405T134949Z
UID:10000016-1713571200-1713657599@clubpayande.com
SUMMARY:PATRICIA FALLON
DESCRIPTION:
URL:https://clubpayande.com/event/patricia-fallon/
LOCATION:Refugio
ORGANIZER;CN="Cristian Ria%C3%B1o":MAILTO:alimentosybebidas@clubpayande.com
END:VEVENT
BEGIN:VEVENT
DTSTART;VALUE=DATE:20240420
DTEND;VALUE=DATE:20240421
DTSTAMP:20260423T051516
CREATED:20240405T135048Z
LAST-MODIFIED:20240405T135048Z
UID:10000017-1713571200-1713657599@clubpayande.com
SUMMARY:CAROLINA FANDIÑO
DESCRIPTION:
URL:https://clubpayande.com/event/carolina-fandino/
LOCATION:KIOSKO
ORGANIZER;CN="Cristian Ria%C3%B1o":MAILTO:alimentosybebidas@clubpayande.com
END:VEVENT
BEGIN:VEVENT
DTSTART;VALUE=DATE:20240427
DTEND;VALUE=DATE:20240428
DTSTAMP:20260423T051516
CREATED:20240405T135228Z
LAST-MODIFIED:20240405T135228Z
UID:10000018-1714176000-1714262399@clubpayande.com
SUMMARY:ELIZA RAMIREZ GOMEZ
DESCRIPTION:
URL:https://clubpayande.com/event/eliza-ramirez-gomez/
LOCATION:Refugio
ORGANIZER;CN="Cristian Ria%C3%B1o":MAILTO:alimentosybebidas@clubpayande.com
END:VEVENT
END:VCALENDAR