BEGIN:VCALENDAR
VERSION:2.0
PRODID:-//Club Payandé - ECPv6.2.8.1//NONSGML v1.0//EN
CALSCALE:GREGORIAN
METHOD:PUBLISH
X-WR-CALNAME:Club Payandé
X-ORIGINAL-URL:https://clubpayande.com
X-WR-CALDESC:Eventos para Club Payandé
REFRESH-INTERVAL;VALUE=DURATION:PT1H
X-Robots-Tag:noindex
X-PUBLISHED-TTL:PT1H
BEGIN:VTIMEZONE
TZID:UTC
BEGIN:STANDARD
TZOFFSETFROM:+0000
TZOFFSETTO:+0000
TZNAME:UTC
DTSTART:20240101T000000
END:STANDARD
END:VTIMEZONE
BEGIN:VEVENT
DTSTART;VALUE=DATE:20240503
DTEND;VALUE=DATE:20240505
DTSTAMP:20260423T033035
CREATED:20240405T135408Z
LAST-MODIFIED:20240405T135408Z
UID:10000019-1714694400-1714867199@clubpayande.com
SUMMARY:COPA COLOMBIA SENIOR
DESCRIPTION:
URL:https://clubpayande.com/event/copa-colombia-senior/
LOCATION:Campo de Golf\, Campo de Golf\, Club Payandé\, Quebradanegra\, 253420\, Colombia
END:VEVENT
BEGIN:VEVENT
DTSTART;VALUE=DATE:20240505
DTEND;VALUE=DATE:20240506
DTSTAMP:20260423T033035
CREATED:20240405T135717Z
LAST-MODIFIED:20240405T135717Z
UID:10000020-1714867200-1714953599@clubpayande.com
SUMMARY:FUMIGACIÓN
DESCRIPTION:
URL:https://clubpayande.com/event/fumigacion/
LOCATION:Club
END:VEVENT
BEGIN:VEVENT
DTSTART;VALUE=DATE:20240511
DTEND;VALUE=DATE:20240514
DTSTAMP:20260423T033035
CREATED:20240405T140426Z
LAST-MODIFIED:20240405T140426Z
UID:10000022-1715385600-1715644799@clubpayande.com
SUMMARY:PADRES E HIJOS
DESCRIPTION:
URL:https://clubpayande.com/event/padres-e-hijos/
LOCATION:Campo de Golf\, Campo de Golf\, Club Payandé\, Quebradanegra\, 253420\, Colombia
END:VEVENT
BEGIN:VEVENT
DTSTART;VALUE=DATE:20240512
DTEND;VALUE=DATE:20240514
DTSTAMP:20260423T033035
CREATED:20240405T140547Z
LAST-MODIFIED:20240405T140547Z
UID:10000023-1715472000-1715644799@clubpayande.com
SUMMARY:RECREACIÓN
DESCRIPTION:
URL:https://clubpayande.com/event/recreacion/
LOCATION:Club
END:VEVENT
BEGIN:VEVENT
DTSTART;VALUE=DATE:20240521
DTEND;VALUE=DATE:20240524
DTSTAMP:20260423T033035
CREATED:20240405T140943Z
LAST-MODIFIED:20240405T140943Z
UID:10000027-1716249600-1716508799@clubpayande.com
SUMMARY:CAMPEONATO NACIONAL DAMAS COLGOLF
DESCRIPTION:
URL:https://clubpayande.com/event/campeonato-nacional-damas-colgolf/
LOCATION:Campo de Golf\, Campo de Golf\, Club Payandé\, Quebradanegra\, 253420\, Colombia
END:VEVENT
BEGIN:VEVENT
DTSTART;VALUE=DATE:20240524
DTEND;VALUE=DATE:20240525
DTSTAMP:20260423T033035
CREATED:20240405T141217Z
LAST-MODIFIED:20240405T141217Z
UID:10000028-1716508800-1716595199@clubpayande.com
SUMMARY:ANDRES GOMEZ MATRIMONIO
DESCRIPTION:
URL:https://clubpayande.com/event/andres-gomez-matrimonio/
LOCATION:Comedor Principal
ORGANIZER;CN="Cristian Ria%C3%B1o":MAILTO:alimentosybebidas@clubpayande.com
END:VEVENT
BEGIN:VEVENT
DTSTART;VALUE=DATE:20240525
DTEND;VALUE=DATE:20240526
DTSTAMP:20260423T033035
CREATED:20240405T141312Z
LAST-MODIFIED:20240405T141312Z
UID:10000029-1716595200-1716681599@clubpayande.com
SUMMARY:VIVIANA BURBANO
DESCRIPTION:
URL:https://clubpayande.com/event/viviana-burbano/
LOCATION:Refugio
ORGANIZER;CN="Cristian Ria%C3%B1o":MAILTO:alimentosybebidas@clubpayande.com
END:VEVENT
BEGIN:VEVENT
DTSTART;VALUE=DATE:20240527
DTEND;VALUE=DATE:20240529
DTSTAMP:20260423T033035
CREATED:20240405T141358Z
LAST-MODIFIED:20240405T141358Z
UID:10000030-1716768000-1716940799@clubpayande.com
SUMMARY:MICROPINCHADOS CAMPO
DESCRIPTION:
URL:https://clubpayande.com/event/micropinchados-campo/
LOCATION:Campo de Golf\, Campo de Golf\, Club Payandé\, Quebradanegra\, 253420\, Colombia
END:VEVENT
END:VCALENDAR